BEGIN:VCALENDAR
VERSION:2.0
BEGIN:VEVENT
UID:bb68e9d3f3cf83c774c3b56049a57433
DTSTAMP:20260421T091401
ORGANIZER;CN=Herne Hill Music Festival:MAILTO:no-reply@hernehillfestival.org
DTSTART:20241020T190000
DTEND:20241020T203000
SUMMARY:The Southwark Sinfonietta: Classical music programme
LOCATION:St Faith's Church, 62 Red Post Hill, SE24 9JQ
DESCRIPTION:Once again the popular Southwark Sinfonietta will close the Festival with a performance of classical music.
URL:http://hernehillfestival.org/programme/15
BEGIN:VALARM
TRIGGER:-PT60M
ACTION:DISPLAY
END:VALARM
END:VEVENT
END:VCALENDAR